Package: MetaboSignal Version: 1.38.0 Command: rm -rf MetaboSignal.buildbin-libdir && mkdir MetaboSignal.buildbin-libdir && /Users/biocbuild/BBS/utils/build-universal.sh MetaboSignal_1.38.0.tar.gz /Library/Frameworks/R.framework/Resources/bin/R MetaboSignal.buildbin-libdir StartedAt: 2025-04-21 22:41:20 -0400 (Mon, 21 Apr 2025) EndedAt: 2025-04-21 22:41:43 -0400 (Mon, 21 Apr 2025) EllapsedTime: 23.5 seconds RetCode: 0 Status: OK PackageFile: MetaboSignal_1.38.0.tgz PackageFileSize: 2.649 MiB