Package: MetaboSignal Version: 1.40.0 Maintainer: Andrea Rodriguez-Martinez MaintainerEmail: andrea.rodriguez-martinez13 at imperial.ac.uk git_url: https://git.bioconductor.org/packages/MetaboSignal git_branch: RELEASE_3_22 git_last_commit: 4db76ce git_last_commit_date: 2025-10-29 10:34:11 -0400 (Wed, 29 Oct 2025)