Package: MetaboDynamics Version: 2.0.0 Command: /home/biocbuild/R/R/bin/R CMD build --keep-empty-dirs --no-resave-data MetaboDynamics StartedAt: 2025-11-14 03:05:32 -0000 (Fri, 14 Nov 2025) EndedAt: 2025-11-14 03:16:51 -0000 (Fri, 14 Nov 2025) EllapsedTime: 678.3 seconds RetCode: 0 Status: OK PackageFile: MetaboDynamics_2.0.0.tar.gz PackageFileSize: 4.224 MiB