Package: MetaboDynamics Version: 2.0.0 Command: /home/biocbuild/bbs-3.22-bioc/R/bin/R CMD check --install=check:MetaboDynamics.install-out.txt --library=/home/biocbuild/bbs-3.22-bioc/R/site-library --timings MetaboDynamics_2.0.0.tar.gz StartedAt: 2025-11-12 01:16:26 -0500 (Wed, 12 Nov 2025) EndedAt: 2025-11-12 01:25:37 -0500 (Wed, 12 Nov 2025) EllapsedTime: 551.5 seconds RetCode: 0 Status: OK CheckDir: MetaboDynamics.Rcheck Warnings: 0