Package: MetaboDynamics Version: 2.0.0 Command: /home/biocbuild/bbs-3.22-bioc/R/bin/R CMD build --keep-empty-dirs --no-resave-data --md5 MetaboDynamics StartedAt: 2025-11-11 18:38:26 -0500 (Tue, 11 Nov 2025) EndedAt: 2025-11-11 18:46:16 -0500 (Tue, 11 Nov 2025) EllapsedTime: 470.4 seconds RetCode: 0 Status: OK PackageFile: MetaboDynamics_2.0.0.tar.gz PackageFileSize: 7.212 MiB