Package: MetaboDynamics Version: 1.0.2 Command: /home/biocbuild/bbs-3.21-bioc/R/bin/R CMD INSTALL MetaboDynamics StartedAt: 2025-10-12 15:24:47 -0400 (Sun, 12 Oct 2025) EndedAt: 2025-10-12 15:28:15 -0400 (Sun, 12 Oct 2025) EllapsedTime: 208.0 seconds RetCode: 0 Status: OK