Package: MetaboDynamics Version: 1.0.2 Command: /home/biocbuild/bbs-3.21-bioc/R/bin/R CMD build --keep-empty-dirs --no-resave-data MetaboDynamics StartedAt: 2025-10-12 18:21:57 -0400 (Sun, 12 Oct 2025) EndedAt: 2025-10-12 18:27:44 -0400 (Sun, 12 Oct 2025) EllapsedTime: 347.2 seconds RetCode: 0 Status: OK PackageFile: MetaboDynamics_1.0.2.tar.gz PackageFileSize: 6.689 MiB