Package: MetaboDynamics Version: 1.0.2 Command: /Library/Frameworks/R.framework/Resources/bin/R CMD INSTALL MetaboDynamics StartedAt: 2025-10-13 16:06:44 -0400 (Mon, 13 Oct 2025) EndedAt: 2025-10-13 16:09:38 -0400 (Mon, 13 Oct 2025) EllapsedTime: 173.8 seconds RetCode: 0 Status: OK