Package: MetaboDynamics Version: 1.0.2 Command: /Library/Frameworks/R.framework/Resources/bin/R CMD build --keep-empty-dirs --no-resave-data MetaboDynamics StartedAt: 2025-10-14 03:44:02 -0400 (Tue, 14 Oct 2025) EndedAt: 2025-10-14 03:50:27 -0400 (Tue, 14 Oct 2025) EllapsedTime: 384.4 seconds RetCode: 0 Status: OK PackageFile: MetaboDynamics_1.0.2.tar.gz PackageFileSize: 6.613 MiB