Package: MetaboDynamics Version: 1.0.2 Command: rm -rf MetaboDynamics.buildbin-libdir && mkdir MetaboDynamics.buildbin-libdir && /Users/biocbuild/BBS/utils/build-universal.sh MetaboDynamics_1.0.2.tar.gz /Library/Frameworks/R.framework/Resources/bin/R MetaboDynamics.buildbin-libdir StartedAt: 2025-10-15 19:12:45 -0400 (Wed, 15 Oct 2025) EndedAt: 2025-10-15 19:15:55 -0400 (Wed, 15 Oct 2025) EllapsedTime: 190.2 seconds RetCode: 0 Status: OK PackageFile: MetaboDynamics_1.0.2.tgz PackageFileSize: 7.408 MiB