Package: MetaboCoreUtils Version: 1.18.0 Command: /home/biocbuild/R/R/bin/R CMD check --install=check:MetaboCoreUtils.install-out.txt --library=/home/biocbuild/R/R/site-library --no-vignettes --timings MetaboCoreUtils_1.18.0.tar.gz StartedAt: 2025-11-14 11:17:26 -0000 (Fri, 14 Nov 2025) EndedAt: 2025-11-14 11:18:33 -0000 (Fri, 14 Nov 2025) EllapsedTime: 67.1 seconds RetCode: 0 Status: OK CheckDir: MetaboCoreUtils.Rcheck Warnings: 0