Package: MetaboCoreUtils Version: 1.18.0 Command: /home/biocbuild/R/R/bin/R CMD build --keep-empty-dirs --no-resave-data MetaboCoreUtils StartedAt: 2025-11-11 03:00:56 -0000 (Tue, 11 Nov 2025) EndedAt: 2025-11-11 03:01:15 -0000 (Tue, 11 Nov 2025) EllapsedTime: 19.0 seconds RetCode: 0 Status: OK PackageFile: MetaboCoreUtils_1.18.0.tar.gz PackageFileSize: 936.3 KiB