Package: MetaboCoreUtils Version: 1.18.0 Command: /home/biocbuild/bbs-3.22-bioc/R/bin/R CMD check --install=check:MetaboCoreUtils.install-out.txt --library=/home/biocbuild/bbs-3.22-bioc/R/site-library --timings MetaboCoreUtils_1.18.0.tar.gz StartedAt: 2025-11-14 01:19:40 -0500 (Fri, 14 Nov 2025) EndedAt: 2025-11-14 01:20:39 -0500 (Fri, 14 Nov 2025) EllapsedTime: 59.0 seconds RetCode: 1 Status: ERROR CheckDir: MetaboCoreUtils.Rcheck Warnings: NA