Package: MetaboCoreUtils Version: 1.16.1 Command: /home/biocbuild/R/R/bin/R CMD check --install=check:MetaboCoreUtils.install-out.txt --library=/home/biocbuild/R/R/site-library --no-vignettes --timings MetaboCoreUtils_1.16.1.tar.gz StartedAt: 2025-10-07 11:19:01 -0000 (Tue, 07 Oct 2025) EndedAt: 2025-10-07 11:20:17 -0000 (Tue, 07 Oct 2025) EllapsedTime: 76.1 seconds RetCode: 0 Status: OK CheckDir: MetaboCoreUtils.Rcheck Warnings: 0