Package: MetaboAnnotation Version: 1.14.0 Command: /home/biocbuild/R/R/bin/R CMD INSTALL MetaboAnnotation StartedAt: 2025-11-10 21:45:07 -0000 (Mon, 10 Nov 2025) EndedAt: 2025-11-10 21:46:05 -0000 (Mon, 10 Nov 2025) EllapsedTime: 57.5 seconds RetCode: 0 Status: OK