Package: MetaboAnnotation Version: 1.14.0 Command: /home/biocbuild/R/R/bin/R CMD build --keep-empty-dirs --no-resave-data MetaboAnnotation StartedAt: 2025-11-11 03:00:43 -0000 (Tue, 11 Nov 2025) EndedAt: 2025-11-11 03:02:51 -0000 (Tue, 11 Nov 2025) EllapsedTime: 128.1 seconds RetCode: 0 Status: OK PackageFile: MetaboAnnotation_1.14.0.tar.gz PackageFileSize: 1.257 MiB