Package: MetaboAnnotation Version: 1.12.0 Command: chmod a+r MetaboAnnotation -R && E:\biocbuild\bbs-3.21-bioc\R\bin\R.exe CMD build --keep-empty-dirs --no-resave-data MetaboAnnotation StartedAt: 2025-08-14 20:15:28 -0400 (Thu, 14 Aug 2025) EndedAt: 2025-08-14 20:17:50 -0400 (Thu, 14 Aug 2025) EllapsedTime: 142.3 seconds RetCode: 0 Status: OK PackageFile: MetaboAnnotation_1.12.0.tar.gz PackageFileSize: 1.185 MiB