Package: MetaboAnnotation Version: 1.14.0 Command: /home/biocbuild/bbs-3.22-bioc/R/bin/R CMD INSTALL MetaboAnnotation StartedAt: 2025-11-11 15:40:16 -0500 (Tue, 11 Nov 2025) EndedAt: 2025-11-11 15:40:57 -0500 (Tue, 11 Nov 2025) EllapsedTime: 41.0 seconds RetCode: 0 Status: OK