Package: MetaboAnnotation Version: 1.14.0 Command: /home/biocbuild/bbs-3.22-bioc/R/bin/R CMD check --install=check:MetaboAnnotation.install-out.txt --library=/home/biocbuild/bbs-3.22-bioc/R/site-library --timings MetaboAnnotation_1.14.0.tar.gz StartedAt: 2025-11-12 01:15:55 -0500 (Wed, 12 Nov 2025) EndedAt: 2025-11-12 01:22:11 -0500 (Wed, 12 Nov 2025) EllapsedTime: 376.3 seconds RetCode: 0 Status: OK CheckDir: MetaboAnnotation.Rcheck Warnings: 0