Package: MetaboAnnotation Version: 1.14.0 Command: /home/biocbuild/bbs-3.22-bioc/R/bin/R CMD build --keep-empty-dirs --no-resave-data --md5 MetaboAnnotation StartedAt: 2025-11-11 18:38:09 -0500 (Tue, 11 Nov 2025) EndedAt: 2025-11-11 18:39:42 -0500 (Tue, 11 Nov 2025) EllapsedTime: 93.1 seconds RetCode: 0 Status: OK PackageFile: MetaboAnnotation_1.14.0.tar.gz PackageFileSize: 1.242 MiB