Package: MetaboAnnotation Version: 1.12.0 Command: /Library/Frameworks/R.framework/Resources/bin/R CMD INSTALL MetaboAnnotation StartedAt: 2025-10-02 16:04:34 -0400 (Thu, 02 Oct 2025) EndedAt: 2025-10-02 16:06:00 -0400 (Thu, 02 Oct 2025) EllapsedTime: 85.7 seconds RetCode: 0 Status: OK