Package: MetaboAnnotation Version: 1.12.0 Command: /Library/Frameworks/R.framework/Resources/bin/R CMD build --keep-empty-dirs --no-resave-data MetaboAnnotation StartedAt: 2025-10-02 20:21:22 -0400 (Thu, 02 Oct 2025) EndedAt: 2025-10-02 20:24:56 -0400 (Thu, 02 Oct 2025) EllapsedTime: 214.0 seconds RetCode: 0 Status: OK PackageFile: MetaboAnnotation_1.12.0.tar.gz PackageFileSize: 1.249 MiB