Package: MetaPhOR Version: 1.10.0 Command: /home/biocbuild/bbs-3.21-bioc/R/bin/R CMD build --keep-empty-dirs --no-resave-data MetaPhOR StartedAt: 2025-10-15 18:24:17 -0400 (Wed, 15 Oct 2025) EndedAt: 2025-10-15 18:37:34 -0400 (Wed, 15 Oct 2025) EllapsedTime: 796.7 seconds RetCode: 0 Status: OK PackageFile: MetaPhOR_1.10.0.tar.gz PackageFileSize: 2.701 MiB