Package: MetaPhOR Version: 1.10.0 Command: /home/biocbuild/R/R/bin/R CMD INSTALL MetaPhOR StartedAt: 2025-09-29 21:07:42 -0000 (Mon, 29 Sep 2025) EndedAt: 2025-09-29 21:08:16 -0000 (Mon, 29 Sep 2025) EllapsedTime: 33.2 seconds RetCode: 0 Status: OK