Package: MetaPhOR Version: 1.10.0 Command: /home/biocbuild/R/R/bin/R CMD build --keep-empty-dirs --no-resave-data MetaPhOR StartedAt: 2025-09-30 02:58:00 -0000 (Tue, 30 Sep 2025) EndedAt: 2025-09-30 03:17:09 -0000 (Tue, 30 Sep 2025) EllapsedTime: 1148.3 seconds RetCode: 0 Status: OK PackageFile: MetaPhOR_1.10.0.tar.gz PackageFileSize: 2.628 MiB