Package: MetaNeighbor Version: 1.30.0 Command: /home/biocbuild/bbs-3.22-bioc/R/bin/R CMD check --install=check:MetaNeighbor.install-out.txt --library=/home/biocbuild/bbs-3.22-bioc/R/site-library --timings MetaNeighbor_1.30.0.tar.gz StartedAt: 2025-11-12 01:17:42 -0500 (Wed, 12 Nov 2025) EndedAt: 2025-11-12 01:19:40 -0500 (Wed, 12 Nov 2025) EllapsedTime: 118.1 seconds RetCode: 1 Status: ERROR CheckDir: MetaNeighbor.Rcheck Warnings: NA