Package: MetaNeighbor Version: 1.28.0 Command: /home/biocbuild/bbs-3.21-bioc/R/bin/R CMD INSTALL MetaNeighbor StartedAt: 2025-10-01 15:23:04 -0400 (Wed, 01 Oct 2025) EndedAt: 2025-10-01 15:23:07 -0400 (Wed, 01 Oct 2025) EllapsedTime: 3.4 seconds RetCode: 0 Status: OK