Package: MetaNeighbor Version: 1.28.0 Command: /home/biocbuild/R/R/bin/R CMD INSTALL MetaNeighbor StartedAt: 2025-09-25 20:35:08 -0000 (Thu, 25 Sep 2025) EndedAt: 2025-09-25 20:35:14 -0000 (Thu, 25 Sep 2025) EllapsedTime: 5.5 seconds RetCode: 0 Status: OK