Package: MetaNeighbor Version: 1.28.0 Command: /Library/Frameworks/R.framework/Resources/bin/R CMD build --keep-empty-dirs --no-resave-data MetaNeighbor StartedAt: 2025-10-03 03:45:09 -0400 (Fri, 03 Oct 2025) EndedAt: 2025-10-03 03:46:01 -0400 (Fri, 03 Oct 2025) EllapsedTime: 52.3 seconds RetCode: 0 Status: OK PackageFile: MetaNeighbor_1.28.0.tar.gz PackageFileSize: 3.194 MiB