Package: MetaNeighbor Version: 1.28.0 Command: rm -rf MetaNeighbor.buildbin-libdir && mkdir MetaNeighbor.buildbin-libdir && /Users/biocbuild/BBS/utils/build-universal.sh MetaNeighbor_1.28.0.tar.gz /Library/Frameworks/R.framework/Resources/bin/R MetaNeighbor.buildbin-libdir StartedAt: 2025-10-04 18:42:36 -0400 (Sat, 04 Oct 2025) EndedAt: 2025-10-04 18:42:43 -0400 (Sat, 04 Oct 2025) EllapsedTime: 6.8 seconds RetCode: 0 Status: OK PackageFile: MetaNeighbor_1.28.0.tgz PackageFileSize: 4.169 MiB