Package: MetaDICT Version: 1.0.0 Command: /home/biocbuild/R/R/bin/R CMD INSTALL MetaDICT StartedAt: 2025-11-24 21:13:21 -0000 (Mon, 24 Nov 2025) EndedAt: 2025-11-24 21:13:52 -0000 (Mon, 24 Nov 2025) EllapsedTime: 31.3 seconds RetCode: 0 Status: OK