Package: MetaDICT Version: 1.0.0 Command: /home/biocbuild/R/R/bin/R CMD build --keep-empty-dirs --no-resave-data MetaDICT StartedAt: 2025-11-25 02:55:16 -0000 (Tue, 25 Nov 2025) EndedAt: 2025-11-25 03:01:11 -0000 (Tue, 25 Nov 2025) EllapsedTime: 355.1 seconds RetCode: 0 Status: OK PackageFile: MetaDICT_1.0.0.tar.gz PackageFileSize: 1.09 MiB