Package: MetaDICT Version: 1.0.0 Command: /Library/Frameworks/R.framework/Resources/bin/R CMD build --keep-empty-dirs --no-resave-data MetaDICT StartedAt: 2025-11-03 17:39:53 -0500 (Mon, 03 Nov 2025) EndedAt: 2025-11-03 17:46:48 -0500 (Mon, 03 Nov 2025) EllapsedTime: 414.6 seconds RetCode: 0 Status: OK PackageFile: MetaDICT_1.0.0.tar.gz PackageFileSize: 2.202 MiB