Package: MetaDICT Version: 1.0.0 Command: rm -rf MetaDICT.buildbin-libdir && mkdir MetaDICT.buildbin-libdir && /Users/biocbuild/BBS/utils/build-universal.sh MetaDICT_1.0.0.tar.gz /Library/Frameworks/R.framework/Resources/bin/R MetaDICT.buildbin-libdir StartedAt: 2025-11-04 01:48:46 -0500 (Tue, 04 Nov 2025) EndedAt: 2025-11-04 01:49:04 -0500 (Tue, 04 Nov 2025) EllapsedTime: 18.5 seconds RetCode: 0 Status: OK PackageFile: MetaDICT_1.0.0.tgz PackageFileSize: 2.268 MiB