Package: MetaDICT Version: 1.0.0 Command: /Library/Frameworks/R.framework/Resources/bin/R CMD INSTALL MetaDICT StartedAt: 2025-11-10 15:05:27 -0500 (Mon, 10 Nov 2025) EndedAt: 2025-11-10 15:05:32 -0500 (Mon, 10 Nov 2025) EllapsedTime: 4.5 seconds RetCode: 0 Status: OK