Package: MetaDICT Version: 1.0.0 Command: /Library/Frameworks/R.framework/Resources/bin/R CMD build --keep-empty-dirs --no-resave-data MetaDICT StartedAt: 2025-11-10 16:56:28 -0500 (Mon, 10 Nov 2025) EndedAt: 2025-11-10 16:57:56 -0500 (Mon, 10 Nov 2025) EllapsedTime: 88.0 seconds RetCode: 0 Status: OK PackageFile: MetaDICT_1.0.0.tar.gz PackageFileSize: 2.189 MiB