Package: MetaDICT Version: 1.0.0 Command: rm -rf MetaDICT.buildbin-libdir && mkdir MetaDICT.buildbin-libdir && /Users/biocbuild/BBS/utils/build-universal.sh MetaDICT_1.0.0.tar.gz /Library/Frameworks/R.framework/Resources/bin/R MetaDICT.buildbin-libdir StartedAt: 2025-11-10 23:26:08 -0500 (Mon, 10 Nov 2025) EndedAt: 2025-11-10 23:26:13 -0500 (Mon, 10 Nov 2025) EllapsedTime: 5.1 seconds RetCode: 0 Status: OK PackageFile: MetaDICT_1.0.0.tgz PackageFileSize: 2.256 MiB