Package: MetaDICT Version: 1.0.0 Maintainer: Bo Yuan MaintainerEmail: boyuan5 at illinois.edu git_url: https://git.bioconductor.org/packages/MetaDICT git_branch: RELEASE_3_22 git_last_commit: 2dfcaa8 git_last_commit_date: 2025-10-29 11:37:46 -0500 (Wed, 29 Oct 2025)