Package: MetaCyto Version: 1.32.0 Command: /home/biocbuild/bbs-3.22-bioc/R/bin/R CMD INSTALL MetaCyto StartedAt: 2025-11-11 15:18:11 -0500 (Tue, 11 Nov 2025) EndedAt: 2025-11-11 15:18:25 -0500 (Tue, 11 Nov 2025) EllapsedTime: 13.9 seconds RetCode: 0 Status: OK