Package: MetaCyto Version: 1.32.0 Command: /home/biocbuild/bbs-3.22-bioc/R/bin/R CMD build --keep-empty-dirs --no-resave-data --md5 MetaCyto StartedAt: 2025-11-11 18:38:41 -0500 (Tue, 11 Nov 2025) EndedAt: 2025-11-11 18:41:56 -0500 (Tue, 11 Nov 2025) EllapsedTime: 195.2 seconds RetCode: 0 Status: OK PackageFile: MetaCyto_1.32.0.tar.gz PackageFileSize: 1.008 MiB