Package: MetaCyto Version: 1.30.0 Command: /home/biocbuild/bbs-3.21-bioc/R/bin/R CMD INSTALL MetaCyto StartedAt: 2025-10-15 15:13:14 -0400 (Wed, 15 Oct 2025) EndedAt: 2025-10-15 15:13:30 -0400 (Wed, 15 Oct 2025) EllapsedTime: 16.1 seconds RetCode: 0 Status: OK