Package: MetaCyto Version: 1.30.0 Command: /home/biocbuild/bbs-3.21-bioc/R/bin/R CMD build --keep-empty-dirs --no-resave-data MetaCyto StartedAt: 2025-10-15 18:23:43 -0400 (Wed, 15 Oct 2025) EndedAt: 2025-10-15 18:26:52 -0400 (Wed, 15 Oct 2025) EllapsedTime: 189.2 seconds RetCode: 0 Status: OK PackageFile: MetaCyto_1.30.0.tar.gz PackageFileSize: 1.034 MiB