Package: MetaCyto Version: 1.30.0 Command: /home/biocbuild/R/R/bin/R CMD INSTALL MetaCyto StartedAt: 2025-09-29 20:26:49 -0000 (Mon, 29 Sep 2025) EndedAt: 2025-09-29 20:27:10 -0000 (Mon, 29 Sep 2025) EllapsedTime: 21.0 seconds RetCode: 0 Status: OK