Package: MetaCyto Version: 1.30.0 Command: /Library/Frameworks/R.framework/Resources/bin/R CMD INSTALL MetaCyto StartedAt: 2025-04-21 15:07:16 -0400 (Mon, 21 Apr 2025) EndedAt: 2025-04-21 15:07:22 -0400 (Mon, 21 Apr 2025) EllapsedTime: 6.0 seconds RetCode: 0 Status: OK