Package: MetaCyto Version: 1.30.0 Command: /Library/Frameworks/R.framework/Resources/bin/R CMD build --keep-empty-dirs --no-resave-data MetaCyto StartedAt: 2025-04-21 16:52:04 -0400 (Mon, 21 Apr 2025) EndedAt: 2025-04-21 16:54:22 -0400 (Mon, 21 Apr 2025) EllapsedTime: 137.5 seconds RetCode: 0 Status: OK PackageFile: MetaCyto_1.30.0.tar.gz PackageFileSize: 1.028 MiB