Package: MetaCyto Version: 1.30.0 Command: /Library/Frameworks/R.framework/Resources/bin/R CMD INSTALL MetaCyto StartedAt: 2025-10-13 15:38:53 -0400 (Mon, 13 Oct 2025) EndedAt: 2025-10-13 15:39:10 -0400 (Mon, 13 Oct 2025) EllapsedTime: 17.2 seconds RetCode: 0 Status: OK