Package: MetNet Version: 1.28.0 Command: /home/biocbuild/R/R/bin/R CMD INSTALL MetNet StartedAt: 2025-11-20 22:24:08 -0000 (Thu, 20 Nov 2025) EndedAt: 2025-11-20 22:24:44 -0000 (Thu, 20 Nov 2025) EllapsedTime: 36.8 seconds RetCode: 0 Status: OK