Package: MetNet Version: 1.28.0 Command: /home/biocbuild/R/R/bin/R CMD build --keep-empty-dirs --no-resave-data MetNet StartedAt: 2025-11-21 03:52:26 -0000 (Fri, 21 Nov 2025) EndedAt: 2025-11-21 03:53:28 -0000 (Fri, 21 Nov 2025) EllapsedTime: 62.0 seconds RetCode: 0 Status: OK PackageFile: MetNet_1.28.0.tar.gz PackageFileSize: 3.967 MiB