Package: MetNet Version: 1.26.4 Command: /Library/Frameworks/R.framework/Resources/bin/R CMD INSTALL MetNet StartedAt: 2025-10-13 16:54:23 -0400 (Mon, 13 Oct 2025) EndedAt: 2025-10-13 16:54:55 -0400 (Mon, 13 Oct 2025) EllapsedTime: 32.1 seconds RetCode: 0 Status: OK