Package: MetNet Version: 1.26.4 Command: /Library/Frameworks/R.framework/Resources/bin/R CMD build --keep-empty-dirs --no-resave-data MetNet StartedAt: 2025-10-14 04:15:51 -0400 (Tue, 14 Oct 2025) EndedAt: 2025-10-14 04:16:45 -0400 (Tue, 14 Oct 2025) EllapsedTime: 53.1 seconds RetCode: 1 Status: ERROR PackageFile: None PackageFileSize: NA